Workbook

Sheet Input and Output Summary
A1: This sheet is used to enter basic details fo rthe client for the 2022 tax year
A3: =IF(AND(A21=1,A23=1),"Married Filing Joint",IF(AND(A21=1,A23=0),"Married Filing Separate",IF(A25=1,"Qualifying Window(er)",IF(SUM(A27,A29,A31)>=1,"Head of Household","Single")))) -> Single | B3: Filing Status
A5: 55000 | B5: Gross Wages
A7: 12950 | B7: Standard Deduction
A9: =IF(A5<A7,0,A5-A7) -> 42050 | B9: Federal Taxable income
A11: ='Tax Rate Schedule'!J14 -> 0 | B11: 2022 Federal Tax Liability
A13: =IF('Tax Rate Schedule'!I6>0,'Tax Rate Schedule'!G6,IF('Tax Rate Schedule'!I7>0,'Tax Rate Schedule'!G7,IF('Tax Rate Schedule'!I8>0,'Tax Rate Schedule'!G8,IF('Tax Rate Schedule'!I9>0,'Tax Rate Schedule'!G9,IF('Tax Rate Schedule'!I10>0,'Tax Rate Schedule'!G10,IF('Tax Rate Schedule'!I11>0,'Tax Rate Schedule'!G11,IF('Tax Rate Schedule'!I12>0,'Tax Rate Schedule'!G12,0))))))) -> 0.22 | B13: Highest Statutory Tax Rate
A15: =MAX('Tax Rate Schedule'!J6:J12) -> 0 | B15: Marginal Tax Rate
A17: ='Tax Rate Schedule'!H14/'Tax Rate Schedule'!B13 -> 0.17079697 | B17: Average Tax Rate
A19: ='Tax Rate Schedule'!H14/'Input and Output Summary'!A5 -> 0.27661345 | B19: Effective Tax Rate
B21: Spouse as of 12/31/202x
B23: Filing Jointly with spouse as of 12/31/202x
B25: Qualifying Widow(er)
B27: Qualifying Child
B29: Qualifying Relative
B31: Qualifying Person
A33: 4500 | B33: 401(k) Contributions
A35: =A5-A33 -> 50500 | B35: Taxable Wages
A37: 5000 | B37: Federal Tax Withholdings from Form W-2
B39: Federal Tax Withholdings from Form 1099
B41: Estimated Tax Payments
B43: Tax Due (Refund)

Sheet Tax Rate Schedule
A1: 2022 Tax Brackets and Tax Rates (for filing in 2023)
A4: Single
A5: If taxable income is over: | B5: but not over: | C5: the tax is: | D5: Tax Rate | E5: Cumulative Tax | F5: Amani's Taxable Income (by bracket) | G5: Tax Rate on Bracket's taxable income | H5: Bracket Tax Liability | I5: Marginal Tax Rate
A6: 0 | B6: 10275 | C6: 10% of the amount over $0 | D6: =_xlfn.TEXTBEFORE(Table3[[#This Row],[the tax is:]],"%")/100 -> 0.1 | E6: 0 | F6: =IF($B$13<=Table3[[#This Row],[but not over:]],$B$13,0) -> 0 | G6: 0.1 | H6: =Table3[[#This Row],[Amani''s Taxable Income (by bracket)]] * Table3[[#This Row],[Tax Rate on Bracket''s taxable income]] -> 0 | I6: =IF(Table3[[#This Row],[Amani''s Taxable Income (by bracket)]]=0,0,IF((Table3[[#This Row],[Amani''s Taxable Income (by bracket)]]+Table3[[#This Row],[If taxable income is over:]]+1)>=Table3[[#This Row],[but not over:]],D7, Table3[[#This Row],[Tax Rate]])) -> 0
A7: 10275 | B7: 41775 | C7: $1,027.50 plus 12% of the amount over $10,275 | D7: =(MID(LEFT(C7,FIND("%",C7)-1),FIND("s",C7)+2,LEN(C7)))/100 -> 0.12 | E7: =LEFT(C7,SEARCH(" plus",C7)-1) -> $1,027.50 | F7: =IF(AND($B$13>A7,$B$13<=B7),$B$13-A7,0) -> 0 | G7: 0.12 | H7: =IF(Table3[[#This Row],[Amani''s Taxable Income (by bracket)]]>0,(Table3[[#This Row],[Amani''s Taxable Income (by bracket)]]*Table3[[#This Row],[Tax Rate on Bracket''s taxable income]])+Table3[[#This Row],[Cumulative Tax]],0) -> 0 | I7: =IF(Table3[[#This Row],[Amani''s Taxable Income (by bracket)]]=0,0,IF((Table3[[#This Row],[Amani''s Taxable Income (by bracket)]]+Table3[[#This Row],[If taxable income is over:]]+1)>=Table3[[#This Row],[but not over:]],D8,Table3[[#This Row],[Tax Rate]])) -> 0
A8: 41775 | B8: 89075 | C8: $4,807.50 plus 22% of the amount over $41,775 | D8: =(MID(LEFT(C8,FIND("%",C8)-1),FIND("s",C8)+2,LEN(C8)))/100 -> 0.22 | E8: =LEFT(C8,SEARCH(" plus",C8)-1) -> $4,807.50 | F8: =IF(AND($B$13>A8,$B$13<=B8),$B$13-A8,0) -> 47300 | G8: 0.22 | H8: =IF(Table3[[#This Row],[Amani''s Taxable Income (by bracket)]]>0,(Table3[[#This Row],[Amani''s Taxable Income (by bracket)]]*Table3[[#This Row],[Tax Rate on Bracket''s taxable income]])+Table3[[#This Row],[Cumulative Tax]],0) -> 15213.5 | I8: =IF(Table3[[#This Row],[Amani''s Taxable Income (by bracket)]]=0,0,IF((Table3[[#This Row],[Amani''s Taxable Income (by bracket)]]+Table3[[#This Row],[If taxable income is over:]]+1)>=Table3[[#This Row],[but not over:]],D9,Table3[[#This Row],[Tax Rate]])) -> 0.24
A9: 89075 | B9: 170050 | C9: $15,213.50 plus 24% of the amount over $89,075 | D9: =(MID(LEFT(C9,FIND("%",C9)-1),FIND("s",C9)+2,LEN(C9)))/100 -> 0.24 | E9: =LEFT(C9,SEARCH(" plus",C9)-1) -> $15,213.50 | F9: =IF(AND($B$13>A9,$B$13<=B9),$B$13-A9,0) -> 0 | G9: 0.24 | H9: =IF(Table3[[#This Row],[Amani''s Taxable Income (by bracket)]]>0,(Table3[[#This Row],[Amani''s Taxable Income (by bracket)]]*Table3[[#This Row],[Tax Rate on Bracket''s taxable income]])+Table3[[#This Row],[Cumulative Tax]],0) -> 0 | I9: =IF(Table3[[#This Row],[Amani''s Taxable Income (by bracket)]]=0,0,IF((Table3[[#This Row],[Amani''s Taxable Income (by bracket)]]+Table3[[#This Row],[If taxable income is over:]]+1)>=Table3[[#This Row],[but not over:]],D10,Table3[[#This Row],[Tax Rate]])) -> 0
A10: 170050 | B10: 215950 | C10: $34,647.50 plus 32% of the amount over $170,050 | D10: =(MID(LEFT(C10,FIND("%",C10)-1),FIND("s",C10)+2,LEN(C10)))/100 -> 0.32 | E10: =LEFT(C10,SEARCH(" plus",C10)-1) -> $34,647.50 | F10: =IF(AND($B$13>A10,$B$13<=B10),$B$13-A10,0) -> 0 | G10: 0.32 | H10: =IF(Table3[[#This Row],[Amani''s Taxable Income (by bracket)]]>0,(Table3[[#This Row],[Amani''s Taxable Income (by bracket)]]*Table3[[#This Row],[Tax Rate on Bracket''s taxable income]])+Table3[[#This Row],[Cumulative Tax]],0) -> 0 | I10: =IF(Table3[[#This Row],[Amani''s Taxable Income (by bracket)]]=0,0,IF((Table3[[#This Row],[Amani''s Taxable Income (by bracket)]]+Table3[[#This Row],[If taxable income is over:]]+1)>=Table3[[#This Row],[but not over:]],D11,Table3[[#This Row],[Tax Rate]])) -> 0
A11: 215950 | B11: 539900 | C11: $49,335.50 plus 35% of the amount over $215,950 | D11: =(MID(LEFT(C11,FIND("%",C11)-1),FIND("s",C11)+2,LEN(C11)))/100 -> 0.35 | E11: =LEFT(C11,SEARCH(" plus",C11)-1) -> $49,335.50 | F11: =IF(AND($B$13>A11,$B$13<=B11),$B$13-A11,0) -> 0 | G11: 0.35 | H11: =IF(Table3[[#This Row],[Amani''s Taxable Income (by bracket)]]>0,(Table3[[#This Row],[Amani''s Taxable Income (by bracket)]]*Table3[[#This Row],[Tax Rate on Bracket''s taxable income]])+Table3[[#This Row],[Cumulative Tax]],0) -> 0 | I11: =IF(Table3[[#This Row],[Amani''s Taxable Income (by bracket)]]=0,0,IF((Table3[[#This Row],[Amani''s Taxable Income (by bracket)]]+Table3[[#This Row],[If taxable income is over:]]+1)>=Table3[[#This Row],[but not over:]],D12,Table3[[#This Row],[Tax Rate]])) -> 0
A12: 539900 | B12: no limit | C12: $162,718 plus 37% of the amount over $539,900 | D12: =(MID(LEFT(C12,FIND("%",C12)-1),FIND("s",C12)+2,LEN(C12)))/100 -> 0.37 | E12: =LEFT(C12,SEARCH(" plus",C12)-1) -> $162,718 | F12: =IF(AND($B$13>A12,$B$13<=B12),$B$13-A12,0) -> 0 | G12: 0.37 | H12: =IF(Table3[[#This Row],[Amani''s Taxable Income (by bracket)]]>0,(Table3[[#This Row],[Amani''s Taxable Income (by bracket)]]*Table3[[#This Row],[Tax Rate on Bracket''s taxable income]])+Table3[[#This Row],[Cumulative Tax]],0) -> 0 | I12: =IF(Table3[[#This Row],[Amani''s Taxable Income (by bracket)]]=0,0,IF((Table3[[#This Row],[Amani''s Taxable Income (by bracket)]]+Table3[[#This Row],[If taxable income is over:]]+1)>=Table3[[#This Row],[but not over:]],D13,Table3[[#This Row],[Tax Rate]])) -> 0
B13: ='Tax Rate Schedule'!A9 -> 89075 | C13: Taxable Income | F13: =IF(F6>0,F6,IF(F7>0,F7+A7,IF(F8>0,F8+A8,IF(F9>0,F9+A9,IF(F10>0,F10+A10,IF(F11>0,F11+A11,IF(F12>0,F12+A12,0))))))) -> 89075
C14: Tax on Taxable Income | H14: =SUM(H6:HI12) -> 15213.74
A17: Head of Household:
A18: If taxable income is over: | B18: but not over: | C18: The tax is: | D18: Tax Rate | E18: Cumulative Tax | F18: Amani's Taxable Income (by bracket) | G18: Tax Rate on Bracket's taxable income | H18: Bracket Tax Liability | I18: Marginal Tax Rate
A19: 0 | B19: 14650 | C19: 10% of taxable income | D19: 0.1 | E19: $ - | F19: 0 | G19: 0.1 | H19: =Table2839[[#This Row],[Amani''s Taxable Income (by bracket)]] * Table2839[[#This Row],[Tax Rate on Bracket''s taxable income]] -> 0 | I19: =IF(Table2839[[#This Row],[Amani''s Taxable Income (by bracket)]]=0,0,IF((Table2839[[#This Row],[Amani''s Taxable Income (by bracket)]]+Table2839[[#This Row],[If taxable income is over:]]+1)>=Table2839[[#This Row],[but not over:]],D20, Table2839[[#This Row],[Tax Rate]])) -> 0
A20: 14650 | B20: 55900 | C20: $1,465 plus 12% of the excess over $14,650 | D20: 0.12 | E20: =LEFT(C20,SEARCH(" plus",C20)-1) -> $1,465 | F20: 0 | G20: 0.12 | H20: =IF(Table2839[[#This Row],[Amani''s Taxable Income (by bracket)]]>0,(Table2839[[#This Row],[Amani''s Taxable Income (by bracket)]]*Table2839[[#This Row],[Tax Rate on Bracket''s taxable income]])+Table2839[[#This Row],[Cumulative Tax]],0) -> 0 | I20: =IF(Table2839[[#This Row],[Amani''s Taxable Income (by bracket)]]=0,0,IF((Table2839[[#This Row],[Amani''s Taxable Income (by bracket)]]+Table2839[[#This Row],[If taxable income is over:]]+1)>=Table2839[[#This Row],[but not over:]],D21,Table2839[[#This Row],[Tax Rate]])) -> 0
A21: 55900 | B21: 89050 | C21: $6,415 plus 22% of the excess over $55,900 | D21: 0.22 | E21: =LEFT(C21,SEARCH(" plus",C21)-1) -> $6,415 | F21: 47300 | G21: 0.22 | H21: =IF(Table2839[[#This Row],[Amani''s Taxable Income (by bracket)]]>0,(Table2839[[#This Row],[Amani''s Taxable Income (by bracket)]]*Table2839[[#This Row],[Tax Rate on Bracket''s taxable income]])+Table2839[[#This Row],[Cumulative Tax]],0) -> 16821 | I21: =IF(Table2839[[#This Row],[Amani''s Taxable Income (by bracket)]]=0,0,IF((Table2839[[#This Row],[Amani''s Taxable Income (by bracket)]]+Table2839[[#This Row],[If taxable income is over:]]+1)>=Table2839[[#This Row],[but not over:]],D22,Table2839[[#This Row],[Tax Rate]])) -> 0.24
A22: 89050 | B22: 170050 | C22: $13,708 plus 24% of the excess over $89,050 | D22: 0.24 | E22: =LEFT(C22,SEARCH(" plus",C22)-1) -> $13,708 | F22: 0 | G22: 0.24 | H22: =IF(Table2839[[#This Row],[Amani''s Taxable Income (by bracket)]]>0,(Table2839[[#This Row],[Amani''s Taxable Income (by bracket)]]*Table2839[[#This Row],[Tax Rate on Bracket''s taxable income]])+Table2839[[#This Row],[Cumulative Tax]],0) -> 0 | I22: =IF(Table2839[[#This Row],[Amani''s Taxable Income (by bracket)]]=0,0,IF((Table2839[[#This Row],[Amani''s Taxable Income (by bracket)]]+Table2839[[#This Row],[If taxable income is over:]]+1)>=Table2839[[#This Row],[but not over:]],D23,Table2839[[#This Row],[Tax Rate]])) -> 0
A23: 170050 | B23: 215950 | C23: $33,148 plus 32% of the excess over $170,050 | D23: 0.32 | E23: =LEFT(C23,SEARCH(" plus",C23)-1) -> $33,148 | F23: 0 | G23: 0.32 | H23: =IF(Table2839[[#This Row],[Amani''s Taxable Income (by bracket)]]>0,(Table2839[[#This Row],[Amani''s Taxable Income (by bracket)]]*Table2839[[#This Row],[Tax Rate on Bracket''s taxable income]])+Table2839[[#This Row],[Cumulative Tax]],0) -> 0 | I23: =IF(Table2839[[#This Row],[Amani''s Taxable Income (by bracket)]]=0,0,IF((Table2839[[#This Row],[Amani''s Taxable Income (by bracket)]]+Table2839[[#This Row],[If taxable income is over:]]+1)>=Table2839[[#This Row],[but not over:]],D24,Table2839[[#This Row],[Tax Rate]])) -> 0
A24: 215950 | B24: 539900 | C24: $47,836 plus 35% of the excess over $215,950 | D24: 0.35 | E24: =LEFT(C24,SEARCH(" plus",C24)-1) -> $47,836 | F24: 0 | G24: 0.35 | H24: =IF(Table2839[[#This Row],[Amani''s Taxable Income (by bracket)]]>0,(Table2839[[#This Row],[Amani''s Taxable Income (by bracket)]]*Table2839[[#This Row],[Tax Rate on Bracket''s taxable income]])+Table2839[[#This Row],[Cumulative Tax]],0) -> 0 | I24: =IF(Table2839[[#This Row],[Amani''s Taxable Income (by bracket)]]=0,0,IF((Table2839[[#This Row],[Amani''s Taxable Income (by bracket)]]+Table2839[[#This Row],[If taxable income is over:]]+1)>=Table2839[[#This Row],[but not over:]],D25,Table2839[[#This Row],[Tax Rate]])) -> 0
A25: 539900 | C25: $161,218.5 plus 37% of the excess over $539,900 | D25: 0.37 | E25: =LEFT(C25,SEARCH(" plus",C25)-1) -> $161,218.5 | F25: 0 | G25: 0.37 | H25: =IF(Table2839[[#This Row],[Amani''s Taxable Income (by bracket)]]>0,(Table2839[[#This Row],[Amani''s Taxable Income (by bracket)]]*Table2839[[#This Row],[Tax Rate on Bracket''s taxable income]])+Table2839[[#This Row],[Cumulative Tax]],0) -> 0 | I25: =IF(Table2839[[#This Row],[Amani''s Taxable Income (by bracket)]]=0,0,IF((Table2839[[#This Row],[Amani''s Taxable Income (by bracket)]]+Table2839[[#This Row],[If taxable income is over:]]+1)>=Table2839[[#This Row],[but not over:]],D26,Table2839[[#This Row],[Tax Rate]])) -> 0
F26: 89075
H27: =SUM(H19:HI25) -> 16821.24
A30: Schedule Y-1—Married Filing Jointly or Qualifying Widow(er)
A31: 1f taxable income is over: | B31: But not over: | C31: The tax is: | D31: Tax Rate | E31: Cumulative Tax | F31: Amani's Taxable Income (by bracket) | G31: Tax Rate on Bracket's taxable income | H31: Bracket Tax Liability | I31: Marginal Tax Rate
A32: 0 | B32: 20550 | C32: 10% of taxable income | D32: 0.1 | E32: $ - | F32: 0 | G32: 0.1 | H32: =Table26[[#This Row],[Amani''s Taxable Income (by bracket)]] * Table26[[#This Row],[Tax Rate on Bracket''s taxable income]] -> 0 | I32: 0
A33: 20550 | B33: 83550 | C33: $2,055 plus 12% of the excess over $20,550 | D33: 0.12 | E33: =LEFT(C33,SEARCH(" plus",C33)-1) -> $2,055 | F33: 0 | G33: 0.12 | H33: =IF(Table26[[#This Row],[Amani''s Taxable Income (by bracket)]]>0,(Table26[[#This Row],[Amani''s Taxable Income (by bracket)]]*Table26[[#This Row],[Tax Rate on Bracket''s taxable income]])+Table26[[#This Row],[Cumulative Tax]],0) -> 0
A34: 83550 | B34: 178150 | C34: $9,615 plus 22% of the excess over $83,550 | D34: 0.22 | E34: =LEFT(C34,SEARCH(" plus",C34)-1) -> $9,615 | F34: 47300 | G34: 0.22 | H34: =IF(Table26[[#This Row],[Amani''s Taxable Income (by bracket)]]>0,(Table26[[#This Row],[Amani''s Taxable Income (by bracket)]]*Table26[[#This Row],[Tax Rate on Bracket''s taxable income]])+Table26[[#This Row],[Cumulative Tax]],0) -> 20021 | I34: 0.24
A35: 178150 | B35: 340100 | C35: $30,427 plus 24% of the excess over $178,150 | D35: 0.24 | E35: =LEFT(C35,SEARCH(" plus",C35)-1) -> $30,427 | F35: 0 | G35: 0.24 | H35: =IF(Table26[[#This Row],[Amani''s Taxable Income (by bracket)]]>0,(Table26[[#This Row],[Amani''s Taxable Income (by bracket)]]*Table26[[#This Row],[Tax Rate on Bracket''s taxable income]])+Table26[[#This Row],[Cumulative Tax]],0) -> 0 | I35: 0
A36: 340100 | B36: 431900 | C36: $69,295 plus 32% of the excess over $340,100 | D36: 0.32 | E36: =LEFT(C36,SEARCH(" plus",C36)-1) -> $69,295 | F36: 0 | G36: 0.32 | H36: =IF(Table26[[#This Row],[Amani''s Taxable Income (by bracket)]]>0,(Table26[[#This Row],[Amani''s Taxable Income (by bracket)]]*Table26[[#This Row],[Tax Rate on Bracket''s taxable income]])+Table26[[#This Row],[Cumulative Tax]],0) -> 0 | I36: 0
A37: 431900 | B37: 647850 | C37: $98,671 plus 35% of the excess over $431,900 | D37: 0.35 | E37: =LEFT(C37,SEARCH(" plus",C37)-1) -> $98,671 | F37: 0 | G37: 0.35 | H37: =IF(Table26[[#This Row],[Amani''s Taxable Income (by bracket)]]>0,(Table26[[#This Row],[Amani''s Taxable Income (by bracket)]]*Table26[[#This Row],[Tax Rate on Bracket''s taxable income]])+Table26[[#This Row],[Cumulative Tax]],0) -> 0 | I37: 0
A38: 647850 | C38: $174,253.5 plus 37% of the excess over $647,850 | D38: 0.37 | E38: =LEFT(C38,SEARCH(" plus",C38)-1) -> $174,253.5 | F38: 0 | G38: 0.37 | H38: =IF(Table26[[#This Row],[Amani''s Taxable Income (by bracket)]]>0,(Table26[[#This Row],[Amani''s Taxable Income (by bracket)]]*Table26[[#This Row],[Tax Rate on Bracket''s taxable income]])+Table26[[#This Row],[Cumulative Tax]],0) -> 0 | I38: 0
F39: 89075
H40: =SUM(H32:HI38) -> 20021.24
A43: Schedule Y-2—Married Filing Separately
A44: If taxable income is over: | B44: But not over: | C44: The tax is: | D44: Tax Rate | E44: Cumulative Tax | F44: Amani's Taxable Income (by bracket) | G44: Tax Rate on Bracket's taxable income | H44: Bracket Tax Liability | I44: Marginal Tax Rate
A45: 0 | B45: 10275 | C45: 10% of taxable income | D45: 0.1 | E45: 0 | F45: =IF($B$13<=Table3[[#This Row],[but not over:]],$B$13,0) -> #VALUE! | G45: 0.1 | H45: =Table37[[#This Row],[Amani''s Taxable Income (by bracket)]] * Table37[[#This Row],[Tax Rate on Bracket''s taxable income]] -> #VALUE! | I45: =IF(Table3[[#This Row],[Amani''s Taxable Income (by bracket)]]=0,0,IF((Table3[[#This Row],[Amani''s Taxable Income (by bracket)]]+Table3[[#This Row],[If taxable income is over:]]+1)>=Table3[[#This Row],[but not over:]],D46, Table3[[#This Row],[Tax Rate]])) -> #VALUE!
A46: 10275 | B46: 41775 | C46: $1,027.5 plus 12% of the excess over $10,275 | D46: =(MID(LEFT(C46,FIND("%",C46)-1),FIND("s",C46)+2,LEN(C46)))/100 -> 0.12 | E46: =LEFT(C46,SEARCH(" plus",C46)-1) -> $1,027.5 | F46: =IF(AND($B$13>A46,$B$13<=B46),$B$13-A46,0) -> 0 | G46: 0.12 | H46: =IF(Table37[[#This Row],[Amani''s Taxable Income (by bracket)]]>0,(Table37[[#This Row],[Amani''s Taxable Income (by bracket)]]*Table37[[#This Row],[Tax Rate on Bracket''s taxable income]])+Table37[[#This Row],[Cumulative Tax]],0) -> 0 | I46: =IF(Table3[[#This Row],[Amani''s Taxable Income (by bracket)]]=0,0,IF((Table3[[#This Row],[Amani''s Taxable Income (by bracket)]]+Table3[[#This Row],[If taxable income is over:]]+1)>=Table3[[#This Row],[but not over:]],D47,Table3[[#This Row],[Tax Rate]])) -> #VALUE!
A47: 41775 | B47: 89075 | C47: $4,807.5 plus 22% of the excess over $41,775 | D47: =(MID(LEFT(C47,FIND("%",C47)-1),FIND("s",C47)+2,LEN(C47)))/100 -> 0.22 | E47: =LEFT(C47,SEARCH(" plus",C47)-1) -> $4,807.5 | F47: =IF(AND($B$13>A47,$B$13<=B47),$B$13-A47,0) -> 47300 | G47: 0.22 | H47: =IF(Table37[[#This Row],[Amani''s Taxable Income (by bracket)]]>0,(Table37[[#This Row],[Amani''s Taxable Income (by bracket)]]*Table37[[#This Row],[Tax Rate on Bracket''s taxable income]])+Table37[[#This Row],[Cumulative Tax]],0) -> 15213.5 | I47: =IF(Table3[[#This Row],[Amani''s Taxable Income (by bracket)]]=0,0,IF((Table3[[#This Row],[Amani''s Taxable Income (by bracket)]]+Table3[[#This Row],[If taxable income is over:]]+1)>=Table3[[#This Row],[but not over:]],D48,Table3[[#This Row],[Tax Rate]])) -> #VALUE!
A48: 89075 | B48: 170050 | C48: $15,213.5 plus 24% of the excess over $89,075 | D48: =(MID(LEFT(C48,FIND("%",C48)-1),FIND("s",C48)+2,LEN(C48)))/100 -> 0.24 | E48: =LEFT(C48,SEARCH(" plus",C48)-1) -> $15,213.5 | F48: =IF(AND($B$13>A48,$B$13<=B48),$B$13-A48,0) -> 0 | G48: 0.24 | H48: =IF(Table37[[#This Row],[Amani''s Taxable Income (by bracket)]]>0,(Table37[[#This Row],[Amani''s Taxable Income (by bracket)]]*Table37[[#This Row],[Tax Rate on Bracket''s taxable income]])+Table37[[#This Row],[Cumulative Tax]],0) -> 0 | I48: =IF(Table3[[#This Row],[Amani''s Taxable Income (by bracket)]]=0,0,IF((Table3[[#This Row],[Amani''s Taxable Income (by bracket)]]+Table3[[#This Row],[If taxable income is over:]]+1)>=Table3[[#This Row],[but not over:]],D49,Table3[[#This Row],[Tax Rate]])) -> #VALUE!
...

Sheet Ind Inc Tax Formula
A1: Indiviudal Income Tax Formula
A2: ='Input and Output Summary'!A5 -> 55000 | B2: Gross Income
A3: ='Tax Rate Schedule'!F13 -> 89075 | B3: For AGI (above the line) deductions
A4: =A2-A3 -> -34075 | B4: Adjusted Gross Income
A5: 0 | B5: Greater of
A6: 0 | C6: Standard Deduction or
A7: 0 | C7: Itemized Deductions
A8: 0 | B8: Charitable Contribution deduction
A9: 0 | B9: Deduction for qualified business income
A10: ='Input and Output Summary'!A9 -> 42050 | B10: Taxable Income
A11: ='Input and Output Summary'!A13 -> 0.22 | B11: Highest Statutory Tax Rate
A12: =A10*A11 -> 9251 | B12: Income Tax libaility
A13: 0 | B13: Other Taxes
A14: =A12-A13 -> 9251 | B14: Total Tax
A15: 0 | B15: Credits
A16: ='Input and Output Summary'!A11 -> 0 | B16: Federal Income Tax Liability
A17: 0 | B17: Prepayments
A18: =A14-A15-A16-A17 -> 9251 | B18: Taxes Due or (refund)
A20: ='Input and Output Summary'!A15 -> 0 | B20: Marginal Tax Rate
A21: ='Input and Output Summary'!A17 -> 0.17079697 | B21: Average Tax Rate
A22: ='Input and Output Summary'!A19 -> 0.27661345 | B22: Effective Tax Rate

Sheet CG Tax Rate Schedule
A1: Rate | B1: Married Filing Jointly | C1: Married Filing Seperately | D1: Single | E1: Head of Household | F1: Trusts and Estates
A2: 0 | B2: 0 - 83,350 | C2: 0 - 41,675 | D2: 0 - 41,675 | E2: 0 - 55,800 | F2: 0 - 2,800
A3: 0.15 | B3: 83,351 - 517,200 | C3: 41,676 - 258,600 | D3: 41,676 - 258,600 | E3: 55,801 - 488,500 | F3: 2,801 - 13,700
A4: 0.2 | B4: 517,201+ | C4: 258,601+ | D4: 258,601+ | E4: 488,501+ | F4: 13,701+

Sheet Stnd Ded and Exemptions
A1: Basic Standard Deduction Amounts
A2: Filing Status | B2: 2021 Amount | C2: 2022 Amount
A3: Married Filing Jointly | B3: 25100 | C3: 25900
A4: Qualifying Widow or Widower | B4: 25100 | C4: 25900
A5: Married Filing Separately | B5: 12550 | C5: 12950
A6: Head of Household | B6: 18800 | C6: 19400
A7: Single | B7: 12550 | C7: 12950
A9: Amount of Each Additional Standard Deduction for Taxpayers Who are Age 65 or Blind
A10: Filing Status | B10: 2021 Amount | C10: 2022 Amount | D10: Column2
A11: Married Taxpayers | B11: 1350 | C11: 1400
A12: Single Taxpayer or Head of Household | B12: 1700 | C12: 1750
A14: Exemption Amount
A15: 2021 | B15: 2022
A16: 4300 | B16: 4400

Sheet Personal Monthly Budget
B2: Personal monthly budget
B4: Projected monthly income | E4: Projected balance (Projected income minus expenses) | H4: =C7-J73 -> 307.5
B5: Income 1 | C5: 5400
B6: Extra income | E6: Actual balance (Actual income minus expenses) | H6: =C12-J75 -> 0
B7: Total monthly income | C7: =SUM(C5:C6) -> 5400
E8: Difference (Actual minus projected) | H8: =H6-H4 -> -307.5
B9: Actual monthly income
B10: Income 1
B11: Extra income
B12: Total monthly income | C12: =SUM(C10:C11) -> 0
B14: Housing | G14: Entertainment
B15: 0 | C15: Projected cost | D15: Actual cost | E15: Difference | G15: 0 | H15: Projected cost | I15: Actual cost | J15: Difference
B16: Mortgage or rent | C16: 1900 | E16: =Housing[[#This Row],[Projected cost]]-Housing[[#This Row],[Actual cost]] -> 1900 | G16: Video/DVD | J16: =Entertainment[[#This Row],[Projected cost]]-Entertainment[[#This Row],[Actual cost]] -> 0
B17: Phone | C17: 75 | E17: =Housing[[#This Row],[Projected cost]]-Housing[[#This Row],[Actual cost]] -> 75 | G17: CDs | J17: =Entertainment[[#This Row],[Projected cost]]-Entertainment[[#This Row],[Actual cost]] -> 0
B18: Electricity | C18: 85 | E18: =Housing[[#This Row],[Projected cost]]-Housing[[#This Row],[Actual cost]] -> 85 | G18: Movies | J18: =Entertainment[[#This Row],[Projected cost]]-Entertainment[[#This Row],[Actual cost]] -> 0
B19: Gas | E19: =Housing[[#This Row],[Projected cost]]-Housing[[#This Row],[Actual cost]] -> 0 | G19: Concerts | J19: =Entertainment[[#This Row],[Projected cost]]-Entertainment[[#This Row],[Actual cost]] -> 0
B20: Water and sewer | E20: =Housing[[#This Row],[Projected cost]]-Housing[[#This Row],[Actual cost]] -> 0 | G20: Sporting events | J20: =Entertainment[[#This Row],[Projected cost]]-Entertainment[[#This Row],[Actual cost]] -> 0
B21: Cable | C21: 55 | E21: =Housing[[#This Row],[Projected cost]]-Housing[[#This Row],[Actual cost]] -> 55 | G21: Live theater | J21: =Entertainment[[#This Row],[Projected cost]]-Entertainment[[#This Row],[Actual cost]] -> 0
B22: Waste removal | E22: =Housing[[#This Row],[Projected cost]]-Housing[[#This Row],[Actual cost]] -> 0 | G22: Other | H22: 25 | J22: =Entertainment[[#This Row],[Projected cost]]-Entertainment[[#This Row],[Actual cost]] -> 25
B23: Maintenance or repairs | E23: =Housing[[#This Row],[Projected cost]]-Housing[[#This Row],[Actual cost]] -> 0 | G23: Other | H23: 120 | J23: =Entertainment[[#This Row],[Projected cost]]-Entertainment[[#This Row],[Actual cost]] -> 120
B24: Supplies | E24: =Housing[[#This Row],[Projected cost]]-Housing[[#This Row],[Actual cost]] -> 0 | G24: Other | J24: =Entertainment[[#This Row],[Projected cost]]-Entertainment[[#This Row],[Actual cost]] -> 0
B25: Other | E25: =Housing[[#This Row],[Projected cost]]-Housing[[#This Row],[Actual cost]] -> 0 | G25: Subtotal | J25: =SUBTOTAL(109,Entertainment[Difference]) -> 145
B26: Subtotal | E26: =SUBTOTAL(109,Housing[Difference]) -> 2115
B28: Transportation | G28: Loans
B29: 0 | C29: Projected cost | D29: Actual cost | E29: Difference | G29: 0 | H29: Projected cost | I29: Actual cost | J29: Difference
B30: Vehicle payment | E30: =Transportation[[#This Row],[Projected cost]]-Transportation[[#This Row],[Actual cost]] -> 0 | G30: Personal | J30: =Loans[[#This Row],[Projected cost]]-Loans[[#This Row],[Actual cost]] -> 0
B31: Bus/taxi fare | E31: =Transportation[[#This Row],[Projected cost]]-Transportation[[#This Row],[Actual cost]] -> 0 | G31: Student | J31: =Loans[[#This Row],[Projected cost]]-Loans[[#This Row],[Actual cost]] -> 0
B32: Insurance | C32: 240 | E32: =Transportation[[#This Row],[Projected cost]]-Transportation[[#This Row],[Actual cost]] -> 240 | G32: Credit card | J32: =Loans[[#This Row],[Projected cost]]-Loans[[#This Row],[Actual cost]] -> 0
B33: Licensing | E33: =Transportation[[#This Row],[Projected cost]]-Transportation[[#This Row],[Actual cost]] -> 0 | G33: Credit card | J33: =Loans[[#This Row],[Projected cost]]-Loans[[#This Row],[Actual cost]] -> 0
B34: Fuel | E34: =Transportation[[#This Row],[Projected cost]]-Transportation[[#This Row],[Actual cost]] -> 0 | G34: Credit card | J34: =Loans[[#This Row],[Projected cost]]-Loans[[#This Row],[Actual cost]] -> 0
B35: Maintenance | C35: 30 | E35: =Transportation[[#This Row],[Projected cost]]-Transportation[[#This Row],[Actual cost]] -> 30 | G35: Other | J35: =Loans[[#This Row],[Projected cost]]-Loans[[#This Row],[Actual cost]] -> 0
B36: Other | E36: =Transportation[[#This Row],[Projected cost]]-Transportation[[#This Row],[Actual cost]] -> 0 | G36: Subtotal | J36: =SUBTOTAL(109,Loans[Difference]) -> 0
B37: Subtotal | E37: =SUBTOTAL(109,Transportation[Difference]) -> 270
B39: Insurance | G39: Taxes
B40: 0 | C40: Projected cost | D40: Actual cost | E40: Difference | G40: 0 | H40: Projected cost | I40: Actual cost | J40: Difference
B41: Home | C41: 45 | E41: =Insurance[[#This Row],[Projected cost]]-Insurance[[#This Row],[Actual cost]] -> 45 | G41: Federal | J41: =Taxes[[#This Row],[Projected cost]]-Taxes[[#This Row],[Actual cost]] -> 0
B42: Health | C42: 612.5 | E42: =Insurance[[#This Row],[Projected cost]]-Insurance[[#This Row],[Actual cost]] -> 612.5 | G42: State | J42: =Taxes[[#This Row],[Projected cost]]-Taxes[[#This Row],[Actual cost]] -> 0
B43: Life | E43: =Insurance[[#This Row],[Projected cost]]-Insurance[[#This Row],[Actual cost]] -> 0 | G43: Local | J43: =Taxes[[#This Row],[Projected cost]]-Taxes[[#This Row],[Actual cost]] -> 0
B44: Other | E44: =Insurance[[#This Row],[Projected cost]]-Insurance[[#This Row],[Actual cost]] -> 0 | G44: Other | J44: =Taxes[[#This Row],[Projected cost]]-Taxes[[#This Row],[Actual cost]] -> 0
B45: Subtotal | E45: =SUBTOTAL(109,Insurance[Difference]) -> 657.5 | G45: Subtotal | J45: =SUBTOTAL(109,Taxes[Difference]) -> 0
...

Sheet 1040
A1: Input and Output Summary'
A12: 'Input and Output Summary'
A16: 'Input and Output Summary'
A25: 'Input and Output Summary' | B25: 'Input and Output Summary'
A26: 'Input and Output Summary'
A28: Inputs | B28: Numbers | C28: Letters | D28: Descriptions
B29: 1 | D29: Taxable refunds, credits, or offsets of state and local income taxes
B30: 2 | C30: a | D30: Alimony received
C31: b | D31: Date of original divorce or separation agreement (see instructions):
B32: 3 | D32: Business income or (loss). Attach Schedule C
B33: 4 | D33: Other gains or (losses). Attach Form 4797
B34: 5 | D34: Rental real estate, royalties, partnerships, S corporations, trusts, etc. Attach Schedule E
B35: 6 | D35: Farm income or (loss). Attach Schedule F
B36: 7 | D36: Unemployment compensation
B37: 8 | D37: Other Income
C38: a | D38: Net operating loss
C39: b | D39: Gambling
C40: c | D40: Cancellation of debt
C41: d | D41: Foreign earned income exclusion from Form 2555
C42: e | D42: Income from Form 8853
C43: f | D43: Income from Form 8889
C44: g | D44: Alaska Permanent Fund Dividends
C45: h | D45: Jury duty pay
C46: i | D46: Prizes and awards
C47: j | D47: Activity not engaged in for profit income
C48: k | D48: Stock options
C49: l | D49: Income from the rental of personal property if you engaged in the rental for profit but were not in the business of renting such property
... C59: z | D59: Other income. List type and amount:
B60: 9 | D60: Total other income. Add lines 8a through 8z
B61: 10 | D61: Combine lines 1 through 7 and 9. Enter here and on Form 1040, 1040-SR, or 1040-NR, line 8
B62: 11 | D62: Educator expenses
B63: 12 | D63: Certain business expenses of reservists, performing artists, and fee-basis government officials. Attach Form 2106
B64: 13 | D64: Health savings account deduction. Attach Form 8889
B65: 14 | D65: Moving expenses for members of the Armed Forces. Attach Form 3903
B66: 15 | D66: Deductible part of self-employment tax. Attach Schedule SE
B67: 16 | D67: Self-employed SEP, SIMPLE, and qualified plans
B68: 17 | D68: Self-employed health insurance deduction
B69: 18 | D69: Penalty on early withdrawal of savings
B70: 19 | C70: a | D70: Alimony paid
C71: b | D71: Recipient's SSN
...

Sheet 1040 Schedule 1
A1: Inputs | B1: Numbers | C1: Letters | D1: Descriptions
B2: 1 | D2: Taxable refunds, credits, or offsets of state and local income taxes
B3: 2 | C3: a | D3: Alimony received
C4: b | D4: Date of original divorce or separation agreement (see instructions):
B5: 3 | D5: Business income or (loss). Attach Schedule C
B6: 4 | D6: Other gains or (losses). Attach Form 4797
B7: 5 | D7: Rental real estate, royalties, partnerships, S corporations, trusts, etc. Attach Schedule E
B8: 6 | D8: Farm income or (loss). Attach Schedule F
B9: 7 | D9: Unemployment compensation
B10: 8 | D10: Other Income
C11: a | D11: Net operating loss
C12: b | D12: Gambling
C13: c | D13: Cancellation of debt
C14: d | D14: Foreign earned income exclusion from Form 2555
C15: e | D15: Income from Form 8853
C16: f | D16: Income from Form 8889
C17: g | D17: Alaska Permanent Fund Dividends
C18: h | D18: Jury duty pay
C19: i | D19: Prizes and awards
C20: j | D20: Activity not engaged in for profit income
C21: k | D21: Stock options
C22: l | D22: Income from the rental of personal property if you engaged in the rental for profit but were not in the business of renting such property
... C32: z | D32: Other income. List type and amount:
B33: 9 | D33: Total other income. Add lines 8a through 8z
B34: 10 | D34: Combine lines 1 through 7 and 9. Enter here and on Form 1040, 1040-SR, or 1040-NR, line 8

Sheet Discovery of Capital Doctrine
A1: Amount Realized | B1: Selling Expenses | C1: Tax Basis | D1: Acquisition Fees (Costs) | E1: Realized Gain/Loss | F1: Gain/Loss | G1: Recognized Gain/Loss | H1: Limitiations to Loss Deductions
E2: CG Tax Rate Schedule | F2: 1040 Schedule 1' | G2: 1040

Sheet Social Security Benefits
A1: ='1040 Schedule 1'!A8 -> 0 | B1: 6a in 1040
B3: MAGI
B5: Taxable Single
B7: Taxable Married filing separate
B9: Taxable Married filing joint

Sheet Exclusion Provisions
B1: Municipal Bond Interest
B2: Gain on Sale of a personal residence
B3: Fringe benefits
B4: Scholarships
B5: Other educational subsidies
B6: U.S. Series EE bonds
B7: Gifts and Inheritances
B8: Life Insurance
B9: Foreign-Earned Income
B10: Workers' Compensation
B11: Payments associated with personal injury
B12: Disability Insurance
... B16: contribution to non-Roth qualified retirement accounts

Sheet Retirement Options
B1: Current Tax Savings
B3: Future Value
B5: Future Value of 401k
B7: Future Value of IRA
B9: Future Value of Roth IRA
B11: Future Value of HAS
